BEGIN:VCALENDAR
VERSION:2.0
PRODID:-//Near North Lab - ECPv6.15.20//NONSGML v1.0//EN
CALSCALE:GREGORIAN
METHOD:PUBLISH
X-ORIGINAL-URL:https://www.nearnorthlabs.ca
X-WR-CALDESC:Events for Near North Lab
REFRESH-INTERVAL;VALUE=DURATION:PT1H
X-Robots-Tag:noindex
X-PUBLISHED-TTL:PT1H
BEGIN:VTIMEZONE
TZID:America/Toronto
BEGIN:DAYLIGHT
TZOFFSETFROM:-0500
TZOFFSETTO:-0400
TZNAME:EDT
DTSTART:20250309T070000
END:DAYLIGHT
BEGIN:STANDARD
TZOFFSETFROM:-0400
TZOFFSETTO:-0500
TZNAME:EST
DTSTART:20251102T060000
END:STANDARD
BEGIN:DAYLIGHT
TZOFFSETFROM:-0500
TZOFFSETTO:-0400
TZNAME:EDT
DTSTART:20260308T070000
END:DAYLIGHT
BEGIN:STANDARD
TZOFFSETFROM:-0400
TZOFFSETTO:-0500
TZNAME:EST
DTSTART:20261101T060000
END:STANDARD
BEGIN:DAYLIGHT
TZOFFSETFROM:-0500
TZOFFSETTO:-0400
TZNAME:EDT
DTSTART:20270314T070000
END:DAYLIGHT
BEGIN:STANDARD
TZOFFSETFROM:-0400
TZOFFSETTO:-0500
TZNAME:EST
DTSTART:20271107T060000
END:STANDARD
END:VTIMEZONE
BEGIN:VEVENT
DTSTART;VALUE=DATE:20260101
DTEND;VALUE=DATE:20260102
DTSTAMP:20260423T144022
CREATED:20251113T141600Z
LAST-MODIFIED:20251113T141734Z
UID:16750-1767225600-1767311999@www.nearnorthlabs.ca
SUMMARY:January 1st\, 2026 – Lab Closed (New Year's Day)
DESCRIPTION:
URL:https://www.nearnorthlabs.ca/event/january-1st-2026-lab-closed-new-years-day/
LOCATION:Near North Lab Inc.\, 191 Booth Road\, Unit 11\, North Bay\, Ontario\, P1A 4K3\, Canada
CATEGORIES:Holidays
ORGANIZER;CN="Near North Lab Inc.":MAILTO:service@nnlab.ca
END:VEVENT
BEGIN:VEVENT
DTSTART;VALUE=DATE:20260102
DTEND;VALUE=DATE:20260103
DTSTAMP:20260423T144022
CREATED:20251113T141708Z
LAST-MODIFIED:20251113T141708Z
UID:16752-1767312000-1767398399@www.nearnorthlabs.ca
SUMMARY:January 2nd\, 2026 – Lab Closed
DESCRIPTION:
URL:https://www.nearnorthlabs.ca/event/january-2nd-2026-lab-closed/
LOCATION:Near North Lab Inc.\, 191 Booth Road\, Unit 11\, North Bay\, Ontario\, P1A 4K3\, Canada
CATEGORIES:Holidays
ORGANIZER;CN="Near North Lab Inc.":MAILTO:service@nnlab.ca
END:VEVENT
BEGIN:VEVENT
DTSTART;TZID=America/Toronto:20260106T083000
DTEND;TZID=America/Toronto:20260106T170000
DTSTAMP:20260423T144022
CREATED:20251217T205850Z
LAST-MODIFIED:20251217T210337Z
UID:17218-1767688200-1767718800@www.nearnorthlabs.ca
SUMMARY:January 6th 2026– NNL Courier (South of North Bay – Parry Sound)
DESCRIPTION:
URL:https://www.nearnorthlabs.ca/event/january-6th-2026-nnl-courier-south-of-north-bay-parry-sound/
LOCATION:Near North Lab Inc.\, 191 Booth Road\, Unit 11\, North Bay\, Ontario\, P1A 4K3\, Canada
CATEGORIES:Courier
ORGANIZER;CN="Near North Lab Inc.":MAILTO:service@nnlab.ca
END:VEVENT
BEGIN:VEVENT
DTSTART;TZID=America/Toronto:20260113T083000
DTEND;TZID=America/Toronto:20260113T170000
DTSTAMP:20260423T144022
CREATED:20251217T210143Z
LAST-MODIFIED:20251217T210315Z
UID:17220-1768293000-1768323600@www.nearnorthlabs.ca
SUMMARY:January 13th 2026– NNL Courier (South of North Bay – Parry Sound\, Dorset)
DESCRIPTION:
URL:https://www.nearnorthlabs.ca/event/january-13th-2026-nnl-courier-south-of-north-bay-parry-sound-dorset/
LOCATION:Near North Lab Inc.\, 191 Booth Road\, Unit 11\, North Bay\, Ontario\, P1A 4K3\, Canada
CATEGORIES:Courier
ORGANIZER;CN="Near North Lab Inc.":MAILTO:service@nnlab.ca
END:VEVENT
BEGIN:VEVENT
DTSTART;TZID=America/Toronto:20260120T083000
DTEND;TZID=America/Toronto:20260120T170000
DTSTAMP:20260423T144022
CREATED:20251217T210251Z
LAST-MODIFIED:20251217T210251Z
UID:17222-1768897800-1768928400@www.nearnorthlabs.ca
SUMMARY:January 20th 2026– NNL Courier (South of North Bay - Parry Sound)
DESCRIPTION:
URL:https://www.nearnorthlabs.ca/event/january-20th-2026-nnl-courier-south-of-north-bay-parry-sound/
LOCATION:Near North Lab Inc.\, 191 Booth Road\, Unit 11\, North Bay\, Ontario\, P1A 4K3\, Canada
CATEGORIES:Courier
ORGANIZER;CN="Near North Lab Inc.":MAILTO:service@nnlab.ca
END:VEVENT
BEGIN:VEVENT
DTSTART;TZID=America/Toronto:20260127T083000
DTEND;TZID=America/Toronto:20260127T170000
DTSTAMP:20260423T144023
CREATED:20251217T210458Z
LAST-MODIFIED:20251217T210458Z
UID:17225-1769502600-1769533200@www.nearnorthlabs.ca
SUMMARY:January 27th 2026– NNL Courier (South of North Bay - Parry Sound\, Port Carling)
DESCRIPTION:
URL:https://www.nearnorthlabs.ca/event/january-27th-2026-nnl-courier-south-of-north-bay-parry-sound-port-carling/
LOCATION:Near North Lab Inc.\, 191 Booth Road\, Unit 11\, North Bay\, Ontario\, P1A 4K3\, Canada
CATEGORIES:Courier
ORGANIZER;CN="Near North Lab Inc.":MAILTO:service@nnlab.ca
END:VEVENT
END:VCALENDAR