BEGIN:VCALENDAR
VERSION:2.0
PRODID:-//Near North Lab - ECPv6.15.20//NONSGML v1.0//EN
CALSCALE:GREGORIAN
METHOD:PUBLISH
X-ORIGINAL-URL:https://www.nearnorthlabs.ca
X-WR-CALDESC:Events for Near North Lab
REFRESH-INTERVAL;VALUE=DURATION:PT1H
X-Robots-Tag:noindex
X-PUBLISHED-TTL:PT1H
BEGIN:VTIMEZONE
TZID:America/Toronto
BEGIN:DAYLIGHT
TZOFFSETFROM:-0500
TZOFFSETTO:-0400
TZNAME:EDT
DTSTART:20240310T070000
END:DAYLIGHT
BEGIN:STANDARD
TZOFFSETFROM:-0400
TZOFFSETTO:-0500
TZNAME:EST
DTSTART:20241103T060000
END:STANDARD
BEGIN:DAYLIGHT
TZOFFSETFROM:-0500
TZOFFSETTO:-0400
TZNAME:EDT
DTSTART:20250309T070000
END:DAYLIGHT
BEGIN:STANDARD
TZOFFSETFROM:-0400
TZOFFSETTO:-0500
TZNAME:EST
DTSTART:20251102T060000
END:STANDARD
BEGIN:DAYLIGHT
TZOFFSETFROM:-0500
TZOFFSETTO:-0400
TZNAME:EDT
DTSTART:20260308T070000
END:DAYLIGHT
BEGIN:STANDARD
TZOFFSETFROM:-0400
TZOFFSETTO:-0500
TZNAME:EST
DTSTART:20261101T060000
END:STANDARD
END:VTIMEZONE
BEGIN:VEVENT
DTSTART;TZID=America/Toronto:20251202T083000
DTEND;TZID=America/Toronto:20251202T170000
DTSTAMP:20260423T161652
CREATED:20250630T171923Z
LAST-MODIFIED:20250630T171923Z
UID:15550-1764664200-1764694800@www.nearnorthlabs.ca
SUMMARY:December 2nd 2025– NNL Courier (South of North Bay – Parry Sound)
DESCRIPTION:
URL:https://www.nearnorthlabs.ca/event/december-2nd-2025-nnl-courier-south-of-north-bay-parry-sound/
LOCATION:Near North Lab Inc.\, 191 Booth Road\, Unit 11\, North Bay\, Ontario\, P1A 4K3\, Canada
CATEGORIES:Courier
ORGANIZER;CN="Near North Lab Inc.":MAILTO:service@nnlab.ca
END:VEVENT
BEGIN:VEVENT
DTSTART;TZID=America/Toronto:20251209T083000
DTEND;TZID=America/Toronto:20251209T170000
DTSTAMP:20260423T161652
CREATED:20250630T172029Z
LAST-MODIFIED:20250630T172029Z
UID:15552-1765269000-1765299600@www.nearnorthlabs.ca
SUMMARY:December 9th 2025– NNL Courier (South of North Bay – Parry Sound\, Dorset)
DESCRIPTION:
URL:https://www.nearnorthlabs.ca/event/december-9th-2025-nnl-courier-south-of-north-bay-parry-sound-dorset/
LOCATION:Near North Lab Inc.\, 191 Booth Road\, Unit 11\, North Bay\, Ontario\, P1A 4K3\, Canada
CATEGORIES:Courier
ORGANIZER;CN="Near North Lab Inc.":MAILTO:service@nnlab.ca
END:VEVENT
BEGIN:VEVENT
DTSTART;TZID=America/Toronto:20251216T083000
DTEND;TZID=America/Toronto:20251216T170000
DTSTAMP:20260423T161652
CREATED:20250630T172300Z
LAST-MODIFIED:20250630T172300Z
UID:15554-1765873800-1765904400@www.nearnorthlabs.ca
SUMMARY:December 16th 2025– NNL Courier (South of North Bay – Parry Sound\, Port Carling)
DESCRIPTION:
URL:https://www.nearnorthlabs.ca/event/december-16th-2025-nnl-courier-south-of-north-bay-parry-sound-port-carling/
LOCATION:Near North Lab Inc.\, 191 Booth Road\, Unit 11\, North Bay\, Ontario\, P1A 4K3\, Canada
CATEGORIES:Courier
ORGANIZER;CN="Near North Lab Inc.":MAILTO:service@nnlab.ca
END:VEVENT
BEGIN:VEVENT
DTSTART;TZID=America/Toronto:20251222T083000
DTEND;TZID=America/Toronto:20251222T170000
DTSTAMP:20260423T161652
CREATED:20250630T172450Z
LAST-MODIFIED:20250630T172450Z
UID:15556-1766392200-1766422800@www.nearnorthlabs.ca
SUMMARY:December 22nd 2025– NNL Courier (South of North Bay – Parry Sound)
DESCRIPTION:
URL:https://www.nearnorthlabs.ca/event/december-22nd-2025-nnl-courier-south-of-north-bay-parry-sound/
LOCATION:Near North Lab Inc.\, 191 Booth Road\, Unit 11\, North Bay\, Ontario\, P1A 4K3\, Canada
CATEGORIES:Courier
ORGANIZER;CN="Near North Lab Inc.":MAILTO:service@nnlab.ca
END:VEVENT
BEGIN:VEVENT
DTSTART;TZID=America/Toronto:20251224T083000
DTEND;TZID=America/Toronto:20251224T120000
DTSTAMP:20260423T161652
CREATED:20251113T141211Z
LAST-MODIFIED:20251113T141911Z
UID:16746-1766565000-1766577600@www.nearnorthlabs.ca
SUMMARY:December 24th\, 2025 – Lab Closes at Noon (Christmas Eve)
DESCRIPTION:
URL:https://www.nearnorthlabs.ca/event/december-24th-2025-lab-closes-at-noon/
LOCATION:Near North Lab Inc.\, 191 Booth Road\, Unit 11\, North Bay\, Ontario\, P1A 4K3\, Canada
CATEGORIES:Holidays
ORGANIZER;CN="Near North Lab Inc.":MAILTO:service@nnlab.ca
END:VEVENT
BEGIN:VEVENT
DTSTART;VALUE=DATE:20251225
DTEND;VALUE=DATE:20251226
DTSTAMP:20260423T161652
CREATED:20251113T140816Z
LAST-MODIFIED:20251113T140816Z
UID:16742-1766620800-1766707199@www.nearnorthlabs.ca
SUMMARY:December 25th\, 2025 – Lab Closed (Christmas Day)
DESCRIPTION:
URL:https://www.nearnorthlabs.ca/event/december-25th-2025-lab-closed-christmas-day/
LOCATION:Near North Lab Inc.\, 191 Booth Road\, Unit 11\, North Bay\, Ontario\, P1A 4K3\, Canada
CATEGORIES:Holidays
ORGANIZER;CN="Near North Lab Inc.":MAILTO:service@nnlab.ca
END:VEVENT
BEGIN:VEVENT
DTSTART;VALUE=DATE:20251226
DTEND;VALUE=DATE:20251227
DTSTAMP:20260423T161652
CREATED:20251113T140945Z
LAST-MODIFIED:20251113T140945Z
UID:16744-1766707200-1766793599@www.nearnorthlabs.ca
SUMMARY:December 26th\, 2025 – Lab Closed (Boxing Day)
DESCRIPTION:
URL:https://www.nearnorthlabs.ca/event/december-26th-2025-lab-closed-boxing-day/
LOCATION:Near North Lab Inc.\, 191 Booth Road\, Unit 11\, North Bay\, Ontario\, P1A 4K3\, Canada
CATEGORIES:Holidays
ORGANIZER;CN="Near North Lab Inc.":MAILTO:service@nnlab.ca
END:VEVENT
BEGIN:VEVENT
DTSTART;TZID=America/Toronto:20251229T083000
DTEND;TZID=America/Toronto:20251229T170000
DTSTAMP:20260423T161652
CREATED:20250630T172538Z
LAST-MODIFIED:20250630T172538Z
UID:15558-1766997000-1767027600@www.nearnorthlabs.ca
SUMMARY:December 29th 2025– NNL Courier (South of North Bay – Parry Sound)
DESCRIPTION:
URL:https://www.nearnorthlabs.ca/event/december-29th-2025-nnl-courier-south-of-north-bay-parry-sound/
LOCATION:Near North Lab Inc.\, 191 Booth Road\, Unit 11\, North Bay\, Ontario\, P1A 4K3\, Canada
CATEGORIES:Courier
ORGANIZER;CN="Near North Lab Inc.":MAILTO:service@nnlab.ca
END:VEVENT
BEGIN:VEVENT
DTSTART;TZID=America/Toronto:20251231T083000
DTEND;TZID=America/Toronto:20251231T120000
DTSTAMP:20260423T161652
CREATED:20251113T141411Z
LAST-MODIFIED:20251113T142615Z
UID:16748-1767169800-1767182400@www.nearnorthlabs.ca
SUMMARY:December 31st\, 2025 – Lab Closes at Noon (New Year's Eve)
DESCRIPTION:
URL:https://www.nearnorthlabs.ca/event/december-31st-2025-lab-closes-at-noon/
LOCATION:Near North Lab Inc.\, 191 Booth Road\, Unit 11\, North Bay\, Ontario\, P1A 4K3\, Canada
CATEGORIES:Holidays
ORGANIZER;CN="Near North Lab Inc.":MAILTO:service@nnlab.ca
END:VEVENT
END:VCALENDAR