BEGIN:VCALENDAR
VERSION:2.0
PRODID:-//Near North Lab - ECPv6.15.20//NONSGML v1.0//EN
CALSCALE:GREGORIAN
METHOD:PUBLISH
X-ORIGINAL-URL:https://www.nearnorthlabs.ca
X-WR-CALDESC:Events for Near North Lab
REFRESH-INTERVAL;VALUE=DURATION:PT1H
X-Robots-Tag:noindex
X-PUBLISHED-TTL:PT1H
BEGIN:VTIMEZONE
TZID:America/Toronto
BEGIN:DAYLIGHT
TZOFFSETFROM:-0500
TZOFFSETTO:-0400
TZNAME:EDT
DTSTART:20240310T070000
END:DAYLIGHT
BEGIN:STANDARD
TZOFFSETFROM:-0400
TZOFFSETTO:-0500
TZNAME:EST
DTSTART:20241103T060000
END:STANDARD
BEGIN:DAYLIGHT
TZOFFSETFROM:-0500
TZOFFSETTO:-0400
TZNAME:EDT
DTSTART:20250309T070000
END:DAYLIGHT
BEGIN:STANDARD
TZOFFSETFROM:-0400
TZOFFSETTO:-0500
TZNAME:EST
DTSTART:20251102T060000
END:STANDARD
BEGIN:DAYLIGHT
TZOFFSETFROM:-0500
TZOFFSETTO:-0400
TZNAME:EDT
DTSTART:20260308T070000
END:DAYLIGHT
BEGIN:STANDARD
TZOFFSETFROM:-0400
TZOFFSETTO:-0500
TZNAME:EST
DTSTART:20261101T060000
END:STANDARD
END:VTIMEZONE
BEGIN:VEVENT
DTSTART;TZID=America/Toronto:20251007T083000
DTEND;TZID=America/Toronto:20251007T170000
DTSTAMP:20260423T192104
CREATED:20250630T170749Z
LAST-MODIFIED:20250630T170749Z
UID:15533-1759825800-1759856400@www.nearnorthlabs.ca
SUMMARY:October 7th 2025– NNL Courier (South of North Bay – Parry Sound)
DESCRIPTION:
URL:https://www.nearnorthlabs.ca/event/october-7th-2025-nnl-courier-south-of-north-bay-parry-sound/
LOCATION:Near North Lab Inc.\, 191 Booth Road\, Unit 11\, North Bay\, Ontario\, P1A 4K3\, Canada
CATEGORIES:Courier
ORGANIZER;CN="Near North Lab Inc.":MAILTO:service@nnlab.ca
END:VEVENT
BEGIN:VEVENT
DTSTART;VALUE=DATE:20251013
DTEND;VALUE=DATE:20251014
DTSTAMP:20260423T192104
CREATED:20250825T125709Z
LAST-MODIFIED:20250825T125709Z
UID:15987-1760313600-1760399999@www.nearnorthlabs.ca
SUMMARY:October 13th\, 2025 – Lab Closed (Thanksgiving Day)
DESCRIPTION:
URL:https://www.nearnorthlabs.ca/event/october-13th-2025-lab-closed-thanksgiving-day/
LOCATION:Near North Lab Inc.\, 191 Booth Road\, Unit 11\, North Bay\, Ontario\, P1A 4K3\, Canada
CATEGORIES:Holidays
ORGANIZER;CN="Near North Lab Inc.":MAILTO:service@nnlab.ca
END:VEVENT
BEGIN:VEVENT
DTSTART;TZID=America/Toronto:20251014T080000
DTEND;TZID=America/Toronto:20251014T170000
DTSTAMP:20260423T192104
CREATED:20250630T170905Z
LAST-MODIFIED:20250630T170905Z
UID:15535-1760428800-1760461200@www.nearnorthlabs.ca
SUMMARY:October 14th 2025– NNL Courier (South of North Bay – Parry Sound\, Dorset)
DESCRIPTION:
URL:https://www.nearnorthlabs.ca/event/october-14th-2025-nnl-courier-south-of-north-bay-parry-sound-dorset/
LOCATION:Near North Lab Inc.\, 191 Booth Road\, Unit 11\, North Bay\, Ontario\, P1A 4K3\, Canada
CATEGORIES:Courier
ORGANIZER;CN="Near North Lab Inc.":MAILTO:service@nnlab.ca
END:VEVENT
BEGIN:VEVENT
DTSTART;TZID=America/Toronto:20251021T083000
DTEND;TZID=America/Toronto:20251021T170000
DTSTAMP:20260423T192104
CREATED:20250630T171059Z
LAST-MODIFIED:20250630T171059Z
UID:15537-1761035400-1761066000@www.nearnorthlabs.ca
SUMMARY:October 21st 2025– NNL Courier (South of North Bay – Parry Sound)
DESCRIPTION:
URL:https://www.nearnorthlabs.ca/event/october-21st-2025-nnl-courier-south-of-north-bay-parry-sound/
LOCATION:Near North Lab Inc.\, 191 Booth Road\, Unit 11\, North Bay\, Ontario\, P1A 4K3\, Canada
CATEGORIES:Courier
ORGANIZER;CN="Near North Lab Inc.":MAILTO:service@nnlab.ca
END:VEVENT
BEGIN:VEVENT
DTSTART;TZID=America/Toronto:20251028T083000
DTEND;TZID=America/Toronto:20251028T170000
DTSTAMP:20260423T192104
CREATED:20250630T171249Z
LAST-MODIFIED:20250630T171316Z
UID:15539-1761640200-1761670800@www.nearnorthlabs.ca
SUMMARY:October 28th 2025– NNL Courier (South of North Bay – Parry Sound\, Port Carling)
DESCRIPTION:
URL:https://www.nearnorthlabs.ca/event/october-28th-2025-nnl-courier-south-of-north-bay-parry-sound/
LOCATION:Near North Lab Inc.\, 191 Booth Road\, Unit 11\, North Bay\, Ontario\, P1A 4K3\, Canada
CATEGORIES:Courier
ORGANIZER;CN="Near North Lab Inc.":MAILTO:service@nnlab.ca
END:VEVENT
END:VCALENDAR