BEGIN:VCALENDAR
VERSION:2.0
PRODID:-//Near North Lab - ECPv6.15.20//NONSGML v1.0//EN
CALSCALE:GREGORIAN
METHOD:PUBLISH
X-WR-CALNAME:Near North Lab
X-ORIGINAL-URL:https://www.nearnorthlabs.ca
X-WR-CALDESC:Events for Near North Lab
REFRESH-INTERVAL;VALUE=DURATION:PT1H
X-Robots-Tag:noindex
X-PUBLISHED-TTL:PT1H
BEGIN:VTIMEZONE
TZID:America/Toronto
BEGIN:DAYLIGHT
TZOFFSETFROM:-0500
TZOFFSETTO:-0400
TZNAME:EDT
DTSTART:20240310T070000
END:DAYLIGHT
BEGIN:STANDARD
TZOFFSETFROM:-0400
TZOFFSETTO:-0500
TZNAME:EST
DTSTART:20241103T060000
END:STANDARD
BEGIN:DAYLIGHT
TZOFFSETFROM:-0500
TZOFFSETTO:-0400
TZNAME:EDT
DTSTART:20250309T070000
END:DAYLIGHT
BEGIN:STANDARD
TZOFFSETFROM:-0400
TZOFFSETTO:-0500
TZNAME:EST
DTSTART:20251102T060000
END:STANDARD
BEGIN:DAYLIGHT
TZOFFSETFROM:-0500
TZOFFSETTO:-0400
TZNAME:EDT
DTSTART:20260308T070000
END:DAYLIGHT
BEGIN:STANDARD
TZOFFSETFROM:-0400
TZOFFSETTO:-0500
TZNAME:EST
DTSTART:20261101T060000
END:STANDARD
END:VTIMEZONE
BEGIN:VEVENT
DTSTART;TZID=America/Toronto:20250715T083000
DTEND;TZID=America/Toronto:20250715T170000
DTSTAMP:20260424T120852
CREATED:20250630T163942Z
LAST-MODIFIED:20250630T163942Z
UID:15505-1752568200-1752598800@www.nearnorthlabs.ca
SUMMARY:July 15th 2025– NNL Courier (South of North Bay – Parry Sound)
DESCRIPTION:
URL:https://www.nearnorthlabs.ca/event/july-15th-2025-nnl-courier-south-of-north-bay-parry-sound/
LOCATION:Near North Lab Inc.\, 191 Booth Road\, Unit 11\, North Bay\, Ontario\, P1A 4K3\, Canada
CATEGORIES:Courier
ORGANIZER;CN="Near North Lab Inc.":MAILTO:service@nnlab.ca
END:VEVENT
BEGIN:VEVENT
DTSTART;TZID=America/Toronto:20250708T083000
DTEND;TZID=America/Toronto:20250708T170000
DTSTAMP:20260424T120852
CREATED:20250630T163800Z
LAST-MODIFIED:20250630T163800Z
UID:15503-1751963400-1751994000@www.nearnorthlabs.ca
SUMMARY:July 8th 2025– NNL Courier (South of North Bay – Parry Sound\, Dorset)
DESCRIPTION:
URL:https://www.nearnorthlabs.ca/event/july-8th-2025-nnl-courier-south-of-north-bay-parry-sound-dorset/
LOCATION:Near North Lab Inc.\, 191 Booth Road\, Unit 11\, North Bay\, Ontario\, P1A 4K3\, Canada
CATEGORIES:Courier
ORGANIZER;CN="Near North Lab Inc.":MAILTO:service@nnlab.ca
END:VEVENT
BEGIN:VEVENT
DTSTART;TZID=America/Toronto:20250702T083000
DTEND;TZID=America/Toronto:20250702T170000
DTSTAMP:20260424T120852
CREATED:20250619T143823Z
LAST-MODIFIED:20250630T163532Z
UID:15406-1751445000-1751475600@www.nearnorthlabs.ca
SUMMARY:July 2nd 2025– NNL Courier (South of North Bay – Parry Sound\, Pointe au Baril)
DESCRIPTION:
URL:https://www.nearnorthlabs.ca/event/july-2nd-2025-nnl-courier-south-of-north-bay-parry-sound/
LOCATION:Near North Lab Inc.\, 191 Booth Road\, Unit 11\, North Bay\, Ontario\, P1A 4K3\, Canada
CATEGORIES:Courier
ORGANIZER;CN="Near North Lab Inc.":MAILTO:service@nnlab.ca
END:VEVENT
BEGIN:VEVENT
DTSTART;VALUE=DATE:20250701
DTEND;VALUE=DATE:20250702
DTSTAMP:20260424T120852
CREATED:20250210T202820Z
LAST-MODIFIED:20250619T144212Z
UID:14664-1751328000-1751414399@www.nearnorthlabs.ca
SUMMARY:July 1st\, 2025 - Lab Closed (Canada Day)
DESCRIPTION:
URL:https://www.nearnorthlabs.ca/event/july-1st-2025-lab-closed-canada-day/
LOCATION:Near North Lab Inc.\, 191 Booth Road\, Unit 11\, North Bay\, Ontario\, P1A 4K3\, Canada
CATEGORIES:Holidays
ORGANIZER;CN="Near North Lab Inc.":MAILTO:service@nnlab.ca
END:VEVENT
BEGIN:VEVENT
DTSTART;TZID=America/Toronto:20250624T083000
DTEND;TZID=America/Toronto:20250624T170000
DTSTAMP:20260424T120852
CREATED:20250321T154316Z
LAST-MODIFIED:20250321T160233Z
UID:14839-1750753800-1750784400@www.nearnorthlabs.ca
SUMMARY:June 24th 2025– NNL Courier (South of North Bay – Parry Sound\, Port Carling)
DESCRIPTION:
URL:https://www.nearnorthlabs.ca/event/june-24th-2025-nnl-courier-south-of-north-bay-parry-sound/
LOCATION:Near North Lab Inc.\, 191 Booth Road\, Unit 11\, North Bay\, Ontario\, P1A 4K3\, Canada
CATEGORIES:Courier
ORGANIZER;CN="Near North Lab Inc.":MAILTO:service@nnlab.ca
END:VEVENT
BEGIN:VEVENT
DTSTART;TZID=America/Toronto:20250617T083000
DTEND;TZID=America/Toronto:20250617T170000
DTSTAMP:20260424T120852
CREATED:20250321T154113Z
LAST-MODIFIED:20250321T154113Z
UID:14837-1750149000-1750179600@www.nearnorthlabs.ca
SUMMARY:June 17th 2025– NNL Courier (South of North Bay – Parry Sound)
DESCRIPTION:
URL:https://www.nearnorthlabs.ca/event/june-17th-2025-nnl-courier-south-of-north-bay-parry-sound/
LOCATION:Near North Lab Inc.\, 191 Booth Road\, Unit 11\, North Bay\, Ontario\, P1A 4K3\, Canada
CATEGORIES:Courier
ORGANIZER;CN="Near North Lab Inc.":MAILTO:service@nnlab.ca
END:VEVENT
BEGIN:VEVENT
DTSTART;TZID=America/Toronto:20250610T083000
DTEND;TZID=America/Toronto:20250610T170000
DTSTAMP:20260424T120852
CREATED:20250321T153846Z
LAST-MODIFIED:20250321T153846Z
UID:14835-1749544200-1749574800@www.nearnorthlabs.ca
SUMMARY:June 10th 2025– NNL Courier (South of North Bay – Parry Sound\, Dorset)
DESCRIPTION:
URL:https://www.nearnorthlabs.ca/event/june-10th-2025-nnl-courier-south-of-north-bay-parry-sound-dorset/
LOCATION:Near North Lab Inc.\, 191 Booth Road\, Unit 11\, North Bay\, Ontario\, P1A 4K3\, Canada
CATEGORIES:Courier
ORGANIZER;CN="Near North Lab Inc.":MAILTO:service@nnlab.ca
END:VEVENT
BEGIN:VEVENT
DTSTART;TZID=America/Toronto:20250603T083000
DTEND;TZID=America/Toronto:20250603T170000
DTSTAMP:20260424T120852
CREATED:20250321T153735Z
LAST-MODIFIED:20250321T160210Z
UID:14833-1748939400-1748970000@www.nearnorthlabs.ca
SUMMARY:June 3rd 2025– NNL Courier (South of North Bay – Parry Sound)
DESCRIPTION:
URL:https://www.nearnorthlabs.ca/event/june-3rd-2025-nnl-courier-south-of-north-bay-parry-sound/
LOCATION:Near North Lab Inc.\, 191 Booth Road\, Unit 11\, North Bay\, Ontario\, P1A 4K3\, Canada
CATEGORIES:Courier
ORGANIZER;CN="Near North Lab Inc.":MAILTO:service@nnlab.ca
END:VEVENT
BEGIN:VEVENT
DTSTART;TZID=America/Toronto:20250527T083000
DTEND;TZID=America/Toronto:20250527T170000
DTSTAMP:20260424T120852
CREATED:20250321T153500Z
LAST-MODIFIED:20250321T160129Z
UID:14831-1748334600-1748365200@www.nearnorthlabs.ca
SUMMARY:May 27th 2025– NNL Courier (South of North Bay – Parry Sound\, Port Carling)
DESCRIPTION:
URL:https://www.nearnorthlabs.ca/event/may-27th-2025-nnl-courier-south-of-north-bay-parry-sound/
LOCATION:Near North Lab Inc.\, 191 Booth Road\, Unit 11\, North Bay\, Ontario\, P1A 4K3\, Canada
CATEGORIES:Courier
ORGANIZER;CN="Near North Lab Inc.":MAILTO:service@nnlab.ca
END:VEVENT
BEGIN:VEVENT
DTSTART;TZID=America/Toronto:20250520T083000
DTEND;TZID=America/Toronto:20250520T170000
DTSTAMP:20260424T120852
CREATED:20250321T153336Z
LAST-MODIFIED:20250321T153336Z
UID:14829-1747729800-1747760400@www.nearnorthlabs.ca
SUMMARY:May 20th 2025– NNL Courier (South of North Bay – Parry Sound)
DESCRIPTION:
URL:https://www.nearnorthlabs.ca/event/may-20th-2025-nnl-courier-south-of-north-bay-parry-sound/
LOCATION:Near North Lab Inc.\, 191 Booth Road\, Unit 11\, North Bay\, Ontario\, P1A 4K3\, Canada
CATEGORIES:Courier
ORGANIZER;CN="Near North Lab Inc.":MAILTO:service@nnlab.ca
END:VEVENT
BEGIN:VEVENT
DTSTART;VALUE=DATE:20250519
DTEND;VALUE=DATE:20250520
DTSTAMP:20260424T120852
CREATED:20250210T202654Z
LAST-MODIFIED:20250210T202654Z
UID:14662-1747612800-1747699199@www.nearnorthlabs.ca
SUMMARY:May 19th 2025 – Lab Closed (Victoria Day)
DESCRIPTION:
URL:https://www.nearnorthlabs.ca/event/may-19th-2025-lab-closed-victoria-day/
LOCATION:Near North Lab Inc.\, 191 Booth Road\, Unit 11\, North Bay\, Ontario\, P1A 4K3\, Canada
CATEGORIES:Holidays
ORGANIZER;CN="Near North Lab Inc.":MAILTO:service@nnlab.ca
END:VEVENT
BEGIN:VEVENT
DTSTART;TZID=America/Toronto:20250513T083000
DTEND;TZID=America/Toronto:20250513T170000
DTSTAMP:20260424T120852
CREATED:20250321T153151Z
LAST-MODIFIED:20250321T153151Z
UID:14827-1747125000-1747155600@www.nearnorthlabs.ca
SUMMARY:May 13th 2025– NNL Courier (South of North Bay – Parry Sound\, Dorset)
DESCRIPTION:
URL:https://www.nearnorthlabs.ca/event/may-13th-2025-nnl-courier-south-of-north-bay-parry-sound-dorset/
LOCATION:Near North Lab Inc.\, 191 Booth Road\, Unit 11\, North Bay\, Ontario\, P1A 4K3\, Canada
CATEGORIES:Courier
ORGANIZER;CN="Near North Lab Inc.":MAILTO:service@nnlab.ca
END:VEVENT
BEGIN:VEVENT
DTSTART;TZID=America/Toronto:20250506T083000
DTEND;TZID=America/Toronto:20250506T170000
DTSTAMP:20260424T120852
CREATED:20250321T152341Z
LAST-MODIFIED:20250509T154125Z
UID:14824-1746520200-1746550800@www.nearnorthlabs.ca
SUMMARY:May 6th 2025– NNL Courier (South of North Bay – Parry Sound\, Pointe-au-Baril)
DESCRIPTION:
URL:https://www.nearnorthlabs.ca/event/may-6th-2025-nnl-courier-south-of-north-bay-parry-sound-pointe-au-baril/
LOCATION:Near North Lab Inc.\, 191 Booth Road\, Unit 11\, North Bay\, Ontario\, P1A 4K3\, Canada
CATEGORIES:Courier
ORGANIZER;CN="Near North Lab Inc.":MAILTO:service@nnlab.ca
END:VEVENT
BEGIN:VEVENT
DTSTART;TZID=America/Toronto:20250429T083000
DTEND;TZID=America/Toronto:20250429T170000
DTSTAMP:20260424T120852
CREATED:20250321T152017Z
LAST-MODIFIED:20250321T152017Z
UID:14822-1745915400-1745946000@www.nearnorthlabs.ca
SUMMARY:April 29th 2025– NNL Courier (South of North Bay – Parry Sound)
DESCRIPTION:
URL:https://www.nearnorthlabs.ca/event/april-29th-2025-nnl-courier-south-of-north-bay-parry-sound/
LOCATION:Near North Lab Inc.\, 191 Booth Road\, Unit 11\, North Bay\, Ontario\, P1A 4K3\, Canada
CATEGORIES:Courier
ORGANIZER;CN="Near North Lab Inc.":MAILTO:service@nnlab.ca
END:VEVENT
BEGIN:VEVENT
DTSTART;TZID=America/Toronto:20250422T083000
DTEND;TZID=America/Toronto:20250422T170000
DTSTAMP:20260424T120852
CREATED:20250321T151824Z
LAST-MODIFIED:20250321T151824Z
UID:14820-1745310600-1745341200@www.nearnorthlabs.ca
SUMMARY:April 22th 2025– NNL Courier (South of North Bay – Parry Sound\, Port Carling)
DESCRIPTION:
URL:https://www.nearnorthlabs.ca/event/april-22th-2025-nnl-courier-south-of-north-bay-parry-sound-port-carling/
LOCATION:Near North Lab Inc.\, 191 Booth Road\, Unit 11\, North Bay\, Ontario\, P1A 4K3\, Canada
CATEGORIES:Courier
ORGANIZER;CN="Near North Lab Inc.":MAILTO:service@nnlab.ca
END:VEVENT
BEGIN:VEVENT
DTSTART;VALUE=DATE:20250421
DTEND;VALUE=DATE:20250422
DTSTAMP:20260424T120852
CREATED:20250210T202348Z
LAST-MODIFIED:20250210T202348Z
UID:14659-1745193600-1745279999@www.nearnorthlabs.ca
SUMMARY:April 21st 2025 – Lab Closed (Easter Monday)
DESCRIPTION:
URL:https://www.nearnorthlabs.ca/event/april-21st-2025-lab-closed-easter-monday/
LOCATION:Near North Lab Inc.\, 191 Booth Road\, Unit 11\, North Bay\, Ontario\, P1A 4K3\, Canada
CATEGORIES:Holidays
ORGANIZER;CN="Near North Lab Inc.":MAILTO:service@nnlab.ca
END:VEVENT
BEGIN:VEVENT
DTSTART;VALUE=DATE:20250418
DTEND;VALUE=DATE:20250419
DTSTAMP:20260424T120852
CREATED:20250210T202226Z
LAST-MODIFIED:20250210T202510Z
UID:14657-1744934400-1745020799@www.nearnorthlabs.ca
SUMMARY:April 18th 2025 – Lab Closed (Good Friday)
DESCRIPTION:
URL:https://www.nearnorthlabs.ca/event/april-18th-2025-lab-closed-good-friday/
LOCATION:Near North Lab Inc.\, 191 Booth Road\, Unit 11\, North Bay\, Ontario\, P1A 4K3\, Canada
CATEGORIES:Holidays
ORGANIZER;CN="Near North Lab Inc.":MAILTO:service@nnlab.ca
END:VEVENT
BEGIN:VEVENT
DTSTART;TZID=America/Toronto:20250415T080000
DTEND;TZID=America/Toronto:20250415T170000
DTSTAMP:20260424T120852
CREATED:20250321T151700Z
LAST-MODIFIED:20250321T151700Z
UID:14818-1744704000-1744736400@www.nearnorthlabs.ca
SUMMARY:April 15th 2025– NNL Courier (South of North Bay – Parry Sound)
DESCRIPTION:
URL:https://www.nearnorthlabs.ca/event/april-15th-2025-nnl-courier-south-of-north-bay-parry-sound/
LOCATION:Near North Lab Inc.\, 191 Booth Road\, Unit 11\, North Bay\, Ontario\, P1A 4K3\, Canada
CATEGORIES:Courier
ORGANIZER;CN="Near North Lab Inc.":MAILTO:service@nnlab.ca
END:VEVENT
BEGIN:VEVENT
DTSTART;TZID=America/Toronto:20250408T083000
DTEND;TZID=America/Toronto:20250408T170000
DTSTAMP:20260424T120852
CREATED:20250321T151529Z
LAST-MODIFIED:20250321T151529Z
UID:14816-1744101000-1744131600@www.nearnorthlabs.ca
SUMMARY:April 8th 2025– NNL Courier (South of North Bay – Parry Sound\, Dorset)
DESCRIPTION:
URL:https://www.nearnorthlabs.ca/event/april-8th-2025-nnl-courier-south-of-north-bay-parry-sound-dorset/
LOCATION:Near North Lab Inc.\, 191 Booth Road\, Unit 11\, North Bay\, Ontario\, P1A 4K3\, Canada
CATEGORIES:Courier
ORGANIZER;CN="Near North Lab Inc.":MAILTO:service@nnlab.ca
END:VEVENT
BEGIN:VEVENT
DTSTART;TZID=America/Toronto:20250401T083000
DTEND;TZID=America/Toronto:20250401T170000
DTSTAMP:20260424T120852
CREATED:20250321T151312Z
LAST-MODIFIED:20250321T151312Z
UID:14814-1743496200-1743526800@www.nearnorthlabs.ca
SUMMARY:April 1st 2025– NNL Courier (South of North Bay – Parry Sound)
DESCRIPTION:
URL:https://www.nearnorthlabs.ca/event/april-1st-2025-nnl-courier-south-of-north-bay-parry-sound/
LOCATION:Near North Lab Inc.\, 191 Booth Road\, Unit 11\, North Bay\, Ontario\, P1A 4K3\, Canada
CATEGORIES:Courier
ORGANIZER;CN="Near North Lab Inc.":MAILTO:service@nnlab.ca
END:VEVENT
BEGIN:VEVENT
DTSTART;TZID=America/Toronto:20250325T083000
DTEND;TZID=America/Toronto:20250325T170000
DTSTAMP:20260424T120852
CREATED:20250102T171802Z
LAST-MODIFIED:20250102T171809Z
UID:14571-1742891400-1742922000@www.nearnorthlabs.ca
SUMMARY:March 25th 2025– NNL Courier (South of North Bay – Parry Sound\, Port Carling)
DESCRIPTION:
URL:https://www.nearnorthlabs.ca/event/march-25th-2025-nnl-courier-south-of-north-bay-parry-sound-port-carling/
LOCATION:Near North Lab Inc.\, 191 Booth Road\, Unit 11\, North Bay\, Ontario\, P1A 4K3\, Canada
CATEGORIES:Courier
ORGANIZER;CN="Near North Lab Inc.":MAILTO:service@nnlab.ca
END:VEVENT
BEGIN:VEVENT
DTSTART;TZID=America/Toronto:20250318T083000
DTEND;TZID=America/Toronto:20250318T170000
DTSTAMP:20260424T120852
CREATED:20250102T171650Z
LAST-MODIFIED:20250102T171650Z
UID:14569-1742286600-1742317200@www.nearnorthlabs.ca
SUMMARY:March 18th 2025– NNL Courier (South of North Bay – Parry Sound)
DESCRIPTION:
URL:https://www.nearnorthlabs.ca/event/march-18th-2025-nnl-courier-south-of-north-bay-parry-sound/
LOCATION:Near North Lab Inc.\, 191 Booth Road\, Unit 11\, North Bay\, Ontario\, P1A 4K3\, Canada
CATEGORIES:Courier
ORGANIZER;CN="Near North Lab Inc.":MAILTO:service@nnlab.ca
END:VEVENT
BEGIN:VEVENT
DTSTART;TZID=America/Toronto:20250311T083000
DTEND;TZID=America/Toronto:20250311T170000
DTSTAMP:20260424T120852
CREATED:20250102T171550Z
LAST-MODIFIED:20250102T171550Z
UID:14567-1741681800-1741712400@www.nearnorthlabs.ca
SUMMARY:March 11th 2025– NNL Courier (South of North Bay – Parry Sound\, Dorset)
DESCRIPTION:
URL:https://www.nearnorthlabs.ca/event/march-11th-2025-nnl-courier-south-of-north-bay-parry-sound-dorset/
LOCATION:Near North Lab Inc.\, 191 Booth Road\, Unit 11\, North Bay\, Ontario\, P1A 4K3\, Canada
CATEGORIES:Courier
ORGANIZER;CN="Near North Lab Inc.":MAILTO:service@nnlab.ca
END:VEVENT
BEGIN:VEVENT
DTSTART;TZID=America/Toronto:20250304T083000
DTEND;TZID=America/Toronto:20250304T170000
DTSTAMP:20260424T120852
CREATED:20250102T171442Z
LAST-MODIFIED:20250102T171442Z
UID:14565-1741077000-1741107600@www.nearnorthlabs.ca
SUMMARY:March 4th 2025– NNL Courier (South of North Bay – Parry Sound)
DESCRIPTION:
URL:https://www.nearnorthlabs.ca/event/march-4th-2025-nnl-courier-south-of-north-bay-parry-sound/
LOCATION:Near North Lab Inc.\, 191 Booth Road\, Unit 11\, North Bay\, Ontario\, P1A 4K3\, Canada
CATEGORIES:Courier
ORGANIZER;CN="Near North Lab Inc.":MAILTO:service@nnlab.ca
END:VEVENT
BEGIN:VEVENT
DTSTART;TZID=America/Toronto:20250225T083000
DTEND;TZID=America/Toronto:20250225T170000
DTSTAMP:20260424T120852
CREATED:20250102T171314Z
LAST-MODIFIED:20250102T171314Z
UID:14563-1740472200-1740502800@www.nearnorthlabs.ca
SUMMARY:February 25th 2025– NNL Courier (South of North Bay – Parry Sound\, Port Carling)
DESCRIPTION:
URL:https://www.nearnorthlabs.ca/event/february-25th-2025-nnl-courier-south-of-north-bay-parry-sound-port-carling/
LOCATION:Near North Lab Inc.\, 191 Booth Road\, Unit 11\, North Bay\, Ontario\, P1A 4K3\, Canada
CATEGORIES:Courier
ORGANIZER;CN="Near North Lab Inc.":MAILTO:service@nnlab.ca
END:VEVENT
BEGIN:VEVENT
DTSTART;TZID=America/Toronto:20250218T083000
DTEND;TZID=America/Toronto:20250218T170000
DTSTAMP:20260424T120852
CREATED:20250102T171035Z
LAST-MODIFIED:20250102T171035Z
UID:14561-1739867400-1739898000@www.nearnorthlabs.ca
SUMMARY:February 18th 2025– NNL Courier (South of North Bay – Parry Sound)
DESCRIPTION:
URL:https://www.nearnorthlabs.ca/event/february-18th-2025-nnl-courier-south-of-north-bay-parry-sound/
LOCATION:Near North Lab Inc.\, 191 Booth Road\, Unit 11\, North Bay\, Ontario\, P1A 4K3\, Canada
CATEGORIES:Courier
ORGANIZER;CN="Near North Lab Inc.":MAILTO:service@nnlab.ca
END:VEVENT
BEGIN:VEVENT
DTSTART;VALUE=DATE:20250217
DTEND;VALUE=DATE:20250218
DTSTAMP:20260424T120852
CREATED:20250203T184911Z
LAST-MODIFIED:20250203T184911Z
UID:14644-1739750400-1739836799@www.nearnorthlabs.ca
SUMMARY:February 17th 2024 – Lab Closed (Family Day)
DESCRIPTION:
URL:https://www.nearnorthlabs.ca/event/february-17th-2024-lab-closed-family-day/
LOCATION:Near North Lab Inc.\, 191 Booth Road\, Unit 11\, North Bay\, Ontario\, P1A 4K3\, Canada
CATEGORIES:Holidays
ORGANIZER;CN="Near North Lab Inc.":MAILTO:service@nnlab.ca
END:VEVENT
BEGIN:VEVENT
DTSTART;TZID=America/Toronto:20250211T083000
DTEND;TZID=America/Toronto:20250211T170000
DTSTAMP:20260424T120852
CREATED:20250102T170521Z
LAST-MODIFIED:20250102T170609Z
UID:14558-1739262600-1739293200@www.nearnorthlabs.ca
SUMMARY:February 11th 2025– NNL Courier (South of North Bay – Parry Sound\, Dorset)
DESCRIPTION:
URL:https://www.nearnorthlabs.ca/event/february-4th-2025-nnl-courier-south-of-north-bay-parry-sound-dorset/
LOCATION:Near North Lab Inc.\, 191 Booth Road\, Unit 11\, North Bay\, Ontario\, P1A 4K3\, Canada
CATEGORIES:Courier
ORGANIZER;CN="Near North Lab Inc.":MAILTO:service@nnlab.ca
END:VEVENT
BEGIN:VEVENT
DTSTART;TZID=America/Toronto:20250204T083000
DTEND;TZID=America/Toronto:20250204T170000
DTSTAMP:20260424T120852
CREATED:20250102T170350Z
LAST-MODIFIED:20250102T170350Z
UID:14556-1738657800-1738688400@www.nearnorthlabs.ca
SUMMARY:February 4th 2025– NNL Courier (South of North Bay – Parry Sound)
DESCRIPTION:
URL:https://www.nearnorthlabs.ca/event/february-4th-2025-nnl-courier-south-of-north-bay-parry-sound/
LOCATION:Near North Lab Inc.\, 191 Booth Road\, Unit 11\, North Bay\, Ontario\, P1A 4K3\, Canada
CATEGORIES:Courier
ORGANIZER;CN="Near North Lab Inc.":MAILTO:service@nnlab.ca
END:VEVENT
BEGIN:VEVENT
DTSTART;TZID=America/Toronto:20250128T083000
DTEND;TZID=America/Toronto:20250128T170000
DTSTAMP:20260424T120852
CREATED:20250102T170018Z
LAST-MODIFIED:20250102T170018Z
UID:14554-1738053000-1738083600@www.nearnorthlabs.ca
SUMMARY:January 28th 2025– NNL Courier (South of North Bay – Parry Sound\, Port Carling)
DESCRIPTION:
URL:https://www.nearnorthlabs.ca/event/january-28th-2025-nnl-courier-south-of-north-bay-parry-sound-port-carling/
LOCATION:Near North Lab Inc.\, 191 Booth Road\, Unit 11\, North Bay\, Ontario\, P1A 4K3\, Canada
CATEGORIES:Courier
ORGANIZER;CN="Near North Lab Inc.":MAILTO:service@nnlab.ca
END:VEVENT
END:VCALENDAR