BEGIN:VCALENDAR
VERSION:2.0
PRODID:-//Near North Lab - ECPv6.15.20//NONSGML v1.0//EN
CALSCALE:GREGORIAN
METHOD:PUBLISH
X-WR-CALNAME:Near North Lab
X-ORIGINAL-URL:https://www.nearnorthlabs.ca
X-WR-CALDESC:Events for Near North Lab
REFRESH-INTERVAL;VALUE=DURATION:PT1H
X-Robots-Tag:noindex
X-PUBLISHED-TTL:PT1H
BEGIN:VTIMEZONE
TZID:America/Toronto
BEGIN:DAYLIGHT
TZOFFSETFROM:-0500
TZOFFSETTO:-0400
TZNAME:EDT
DTSTART:20230312T070000
END:DAYLIGHT
BEGIN:STANDARD
TZOFFSETFROM:-0400
TZOFFSETTO:-0500
TZNAME:EST
DTSTART:20231105T060000
END:STANDARD
BEGIN:DAYLIGHT
TZOFFSETFROM:-0500
TZOFFSETTO:-0400
TZNAME:EDT
DTSTART:20240310T070000
END:DAYLIGHT
BEGIN:STANDARD
TZOFFSETFROM:-0400
TZOFFSETTO:-0500
TZNAME:EST
DTSTART:20241103T060000
END:STANDARD
BEGIN:DAYLIGHT
TZOFFSETFROM:-0500
TZOFFSETTO:-0400
TZNAME:EDT
DTSTART:20250309T070000
END:DAYLIGHT
BEGIN:STANDARD
TZOFFSETFROM:-0400
TZOFFSETTO:-0500
TZNAME:EST
DTSTART:20251102T060000
END:STANDARD
BEGIN:DAYLIGHT
TZOFFSETFROM:-0500
TZOFFSETTO:-0400
TZNAME:EDT
DTSTART:20260308T070000
END:DAYLIGHT
BEGIN:STANDARD
TZOFFSETFROM:-0400
TZOFFSETTO:-0500
TZNAME:EST
DTSTART:20261101T060000
END:STANDARD
END:VTIMEZONE
BEGIN:VEVENT
DTSTART;TZID=America/Toronto:20250128T083000
DTEND;TZID=America/Toronto:20250128T170000
DTSTAMP:20260425T113232
CREATED:20250102T170018Z
LAST-MODIFIED:20250102T170018Z
UID:14554-1738053000-1738083600@www.nearnorthlabs.ca
SUMMARY:January 28th 2025– NNL Courier (South of North Bay – Parry Sound\, Port Carling)
DESCRIPTION:
URL:https://www.nearnorthlabs.ca/event/january-28th-2025-nnl-courier-south-of-north-bay-parry-sound-port-carling/
LOCATION:Near North Lab Inc.\, 191 Booth Road\, Unit 11\, North Bay\, Ontario\, P1A 4K3\, Canada
CATEGORIES:Courier
ORGANIZER;CN="Near North Lab Inc.":MAILTO:service@nnlab.ca
END:VEVENT
BEGIN:VEVENT
DTSTART;TZID=America/Toronto:20250121T083000
DTEND;TZID=America/Toronto:20250121T170000
DTSTAMP:20260425T113232
CREATED:20250102T165757Z
LAST-MODIFIED:20250102T170113Z
UID:14552-1737448200-1737478800@www.nearnorthlabs.ca
SUMMARY:January 21st 2025– NNL Courier (South of North Bay – Parry Sound)
DESCRIPTION:
URL:https://www.nearnorthlabs.ca/event/january-21st-2025-nnl-courier-south-of-north-bay-parry-sound/
LOCATION:Near North Lab Inc.\, 191 Booth Road\, Unit 11\, North Bay\, Ontario\, P1A 4K3\, Canada
CATEGORIES:Courier
ORGANIZER;CN="Near North Lab Inc.":MAILTO:service@nnlab.ca
END:VEVENT
BEGIN:VEVENT
DTSTART;TZID=America/Toronto:20250114T083000
DTEND;TZID=America/Toronto:20250114T170000
DTSTAMP:20260425T113232
CREATED:20250102T165547Z
LAST-MODIFIED:20250102T170055Z
UID:14550-1736843400-1736874000@www.nearnorthlabs.ca
SUMMARY:January 14th 2025– NNL Courier (South of North Bay – Parry Sound\, Dorset)
DESCRIPTION:
URL:https://www.nearnorthlabs.ca/event/january-14th-2025-nnl-courier-south-of-north-bay-parry-sound-dorset/
LOCATION:Near North Lab Inc.\, 191 Booth Road\, Unit 11\, North Bay\, Ontario\, P1A 4K3\, Canada
CATEGORIES:Courier
ORGANIZER;CN="Near North Lab Inc.":MAILTO:service@nnlab.ca
END:VEVENT
BEGIN:VEVENT
DTSTART;TZID=America/Toronto:20250107T083000
DTEND;TZID=America/Toronto:20250107T170000
DTSTAMP:20260425T113232
CREATED:20250102T165131Z
LAST-MODIFIED:20250102T165409Z
UID:14548-1736238600-1736269200@www.nearnorthlabs.ca
SUMMARY:January 7th 2025– NNL Courier (South of North Bay – Parry Sound)
DESCRIPTION:
URL:https://www.nearnorthlabs.ca/event/january-7th-2025-nnl-courier-south-of-north-bay-parry-sound/
LOCATION:Near North Lab Inc.\, 191 Booth Road\, Unit 11\, North Bay\, Ontario\, P1A 4K3\, Canada
CATEGORIES:Courier
ORGANIZER;CN="Near North Lab Inc.":MAILTO:service@nnlab.ca
END:VEVENT
BEGIN:VEVENT
DTSTART;VALUE=DATE:20250101
DTEND;VALUE=DATE:20250102
DTSTAMP:20260425T113232
CREATED:20241125T214029Z
LAST-MODIFIED:20241125T214236Z
UID:14404-1735689600-1735775999@www.nearnorthlabs.ca
SUMMARY:January 1st 2025 – Lab Closed (New Year's Day)
DESCRIPTION:
URL:https://www.nearnorthlabs.ca/event/january-1st-2025-lab-closed-new-years-day/
LOCATION:Near North Lab Inc.\, 191 Booth Road\, Unit 11\, North Bay\, Ontario\, P1A 4K3\, Canada
CATEGORIES:Holidays
ORGANIZER;CN="Near North Lab Inc.":MAILTO:service@nnlab.ca
END:VEVENT
BEGIN:VEVENT
DTSTART;TZID=America/Toronto:20241231T080000
DTEND;TZID=America/Toronto:20241231T120000
DTSTAMP:20260425T113232
CREATED:20241125T214603Z
LAST-MODIFIED:20241125T214603Z
UID:14406-1735632000-1735646400@www.nearnorthlabs.ca
SUMMARY:December 31st 2024 – Lab Closes at Noon (New Year's Eve)
DESCRIPTION:
URL:https://www.nearnorthlabs.ca/event/december-31st-2024-lab-closes-at-noon-new-years-eve/
LOCATION:Near North Lab Inc.\, 191 Booth Road\, Unit 11\, North Bay\, Ontario\, P1A 4K3\, Canada
CATEGORIES:Holidays
ORGANIZER;CN="Near North Lab Inc.":MAILTO:service@nnlab.ca
END:VEVENT
BEGIN:VEVENT
DTSTART;TZID=America/Toronto:20241230T083000
DTEND;TZID=America/Toronto:20241230T170000
DTSTAMP:20260425T113232
CREATED:20240911T142845Z
LAST-MODIFIED:20240911T142845Z
UID:14002-1735547400-1735578000@www.nearnorthlabs.ca
SUMMARY:December 30th 2024– NNL Courier (South of North Bay – Parry Sound)
DESCRIPTION:
URL:https://www.nearnorthlabs.ca/event/december-30th-2024-nnl-courier-south-of-north-bay-parry-sound-2/
LOCATION:Near North Lab Inc.\, 191 Booth Road\, Unit 11\, North Bay\, Ontario\, P1A 4K3\, Canada
CATEGORIES:Courier
ORGANIZER;CN="Near North Lab Inc.":MAILTO:service@nnlab.ca
END:VEVENT
BEGIN:VEVENT
DTSTART;VALUE=DATE:20241226
DTEND;VALUE=DATE:20241227
DTSTAMP:20260425T113232
CREATED:20240104T170836Z
LAST-MODIFIED:20240911T141812Z
UID:13468-1735171200-1735257599@www.nearnorthlabs.ca
SUMMARY:December 26th 2024 – Lab Closed (Boxing Day)
DESCRIPTION:
URL:https://www.nearnorthlabs.ca/event/december-26th-2024-lab-closed-boxing-day/
LOCATION:Near North Lab Inc.\, 191 Booth Road\, Unit 11\, North Bay\, Ontario\, P1A 4K3\, Canada
CATEGORIES:Holidays
ORGANIZER;CN="Near North Lab Inc.":MAILTO:service@nnlab.ca
END:VEVENT
BEGIN:VEVENT
DTSTART;VALUE=DATE:20241225
DTEND;VALUE=DATE:20241226
DTSTAMP:20260425T113232
CREATED:20240104T170735Z
LAST-MODIFIED:20240911T141729Z
UID:13466-1735084800-1735171199@www.nearnorthlabs.ca
SUMMARY:December 25th 2024 – Lab Closed (X-Mas Day)
DESCRIPTION:
URL:https://www.nearnorthlabs.ca/event/december-25th-2024-lab-closed-x-mas-day/
LOCATION:Near North Lab Inc.\, 191 Booth Road\, Unit 11\, North Bay\, Ontario\, P1A 4K3\, Canada
CATEGORIES:Holidays
ORGANIZER;CN="Near North Lab Inc.":MAILTO:service@nnlab.ca
END:VEVENT
BEGIN:VEVENT
DTSTART;TZID=America/Toronto:20241224T083000
DTEND;TZID=America/Toronto:20241224T120000
DTSTAMP:20260425T113232
CREATED:20240104T170629Z
LAST-MODIFIED:20240911T141606Z
UID:13464-1735029000-1735041600@www.nearnorthlabs.ca
SUMMARY:December 24th 2024 – Lab Closes at Noon (X-Mas Eve)
DESCRIPTION:
URL:https://www.nearnorthlabs.ca/event/december-24th-2024-lab-closes-at-noon-x-mas-eve/
LOCATION:Near North Lab Inc.\, 191 Booth Road\, Unit 11\, North Bay\, Ontario\, P1A 4K3\, Canada
CATEGORIES:Holidays
ORGANIZER;CN="Near North Lab Inc.":MAILTO:service@nnlab.ca
END:VEVENT
BEGIN:VEVENT
DTSTART;TZID=America/Toronto:20241223T083000
DTEND;TZID=America/Toronto:20241223T170000
DTSTAMP:20260425T113232
CREATED:20240911T141258Z
LAST-MODIFIED:20240911T141258Z
UID:13996-1734942600-1734973200@www.nearnorthlabs.ca
SUMMARY:December 23rd 2024– NNL Courier (South of North Bay – Parry Sound)
DESCRIPTION:
URL:https://www.nearnorthlabs.ca/event/december-23rd-2024-nnl-courier-south-of-north-bay-parry-sound/
LOCATION:Near North Lab Inc.\, 191 Booth Road\, Unit 11\, North Bay\, Ontario\, P1A 4K3\, Canada
CATEGORIES:Courier
ORGANIZER;CN="Near North Lab Inc.":MAILTO:service@nnlab.ca
END:VEVENT
BEGIN:VEVENT
DTSTART;TZID=America/Toronto:20241217T083000
DTEND;TZID=America/Toronto:20241217T170000
DTSTAMP:20260425T113232
CREATED:20240911T141101Z
LAST-MODIFIED:20240911T141111Z
UID:13994-1734424200-1734454800@www.nearnorthlabs.ca
SUMMARY:December 17th 2024– NNL Courier (South of North Bay – Parry Sound\, Port Carling)
DESCRIPTION:
URL:https://www.nearnorthlabs.ca/event/december-17th-2024-nnl-courier-south-of-north-bay-parry-sound-port-carling/
LOCATION:Near North Lab Inc.\, 191 Booth Road\, Unit 11\, North Bay\, Ontario\, P1A 4K3\, Canada
CATEGORIES:Courier
ORGANIZER;CN="Near North Lab Inc.":MAILTO:service@nnlab.ca
END:VEVENT
BEGIN:VEVENT
DTSTART;TZID=America/Toronto:20241210T083000
DTEND;TZID=America/Toronto:20241210T170000
DTSTAMP:20260425T113232
CREATED:20240911T140941Z
LAST-MODIFIED:20240911T140941Z
UID:13992-1733819400-1733850000@www.nearnorthlabs.ca
SUMMARY:December 10th 2024– NNL Courier (South of North Bay – Parry Sound\, Dorset)
DESCRIPTION:
URL:https://www.nearnorthlabs.ca/event/december-10th-2024-nnl-courier-south-of-north-bay-parry-sound-dorset/
LOCATION:Near North Lab Inc.\, 191 Booth Road\, Unit 11\, North Bay\, Ontario\, P1A 4K3\, Canada
CATEGORIES:Courier
ORGANIZER;CN="Near North Lab Inc.":MAILTO:service@nnlab.ca
END:VEVENT
BEGIN:VEVENT
DTSTART;TZID=America/Toronto:20241203T083000
DTEND;TZID=America/Toronto:20241203T170000
DTSTAMP:20260425T113232
CREATED:20240911T140822Z
LAST-MODIFIED:20240911T140822Z
UID:13990-1733214600-1733245200@www.nearnorthlabs.ca
SUMMARY:December 3rd 2024– NNL Courier (South of North Bay – Parry Sound)
DESCRIPTION:
URL:https://www.nearnorthlabs.ca/event/december-3rd-2024-nnl-courier-south-of-north-bay-parry-sound/
LOCATION:Near North Lab Inc.\, 191 Booth Road\, Unit 11\, North Bay\, Ontario\, P1A 4K3\, Canada
CATEGORIES:Courier
ORGANIZER;CN="Near North Lab Inc.":MAILTO:service@nnlab.ca
END:VEVENT
BEGIN:VEVENT
DTSTART;TZID=America/Toronto:20241126T083000
DTEND;TZID=America/Toronto:20241126T170000
DTSTAMP:20260425T113232
CREATED:20240911T140546Z
LAST-MODIFIED:20240911T140609Z
UID:13988-1732609800-1732640400@www.nearnorthlabs.ca
SUMMARY:November 26th 2024– NNL Courier (South of North Bay – Parry Sound\, Port Carling)
DESCRIPTION:
URL:https://www.nearnorthlabs.ca/event/november-26th-2024-nnl-courier-south-of-north-bay-parry-sound-port-carling/
LOCATION:Near North Lab Inc.\, 191 Booth Road\, Unit 11\, North Bay\, Ontario\, P1A 4K3\, Canada
CATEGORIES:Courier
ORGANIZER;CN="Near North Lab Inc.":MAILTO:service@nnlab.ca
END:VEVENT
BEGIN:VEVENT
DTSTART;TZID=America/Toronto:20241119T080000
DTEND;TZID=America/Toronto:20241119T170000
DTSTAMP:20260425T113232
CREATED:20240911T140327Z
LAST-MODIFIED:20240911T140355Z
UID:13985-1732003200-1732035600@www.nearnorthlabs.ca
SUMMARY:November 19th 2024– NNL Courier (South of North Bay – Parry Sound)
DESCRIPTION:
URL:https://www.nearnorthlabs.ca/event/november-12th-2024-nnl-courier-south-of-north-bay-parry-sound/
LOCATION:Near North Lab Inc.\, 191 Booth Road\, Unit 11\, North Bay\, Ontario\, P1A 4K3\, Canada
CATEGORIES:Courier
ORGANIZER;CN="Near North Lab Inc.":MAILTO:service@nnlab.ca
END:VEVENT
BEGIN:VEVENT
DTSTART;TZID=America/Toronto:20241112T083000
DTEND;TZID=America/Toronto:20241112T170000
DTSTAMP:20260425T113232
CREATED:20240911T140202Z
LAST-MODIFIED:20240911T140202Z
UID:13983-1731400200-1731430800@www.nearnorthlabs.ca
SUMMARY:November 12th 2024– NNL Courier (South of North Bay – Parry Sound\, Dorset)
DESCRIPTION:
URL:https://www.nearnorthlabs.ca/event/november-12th-2024-nnl-courier-south-of-north-bay-parry-sound-dorset/
LOCATION:Near North Lab Inc.\, 191 Booth Road\, Unit 11\, North Bay\, Ontario\, P1A 4K3\, Canada
CATEGORIES:Courier
ORGANIZER;CN="Near North Lab Inc.":MAILTO:service@nnlab.ca
END:VEVENT
BEGIN:VEVENT
DTSTART;TZID=America/Toronto:20241105T083000
DTEND;TZID=America/Toronto:20241105T170000
DTSTAMP:20260425T113232
CREATED:20240911T135857Z
LAST-MODIFIED:20240911T135947Z
UID:13981-1730795400-1730826000@www.nearnorthlabs.ca
SUMMARY:November 5th 2024– NNL Courier (South of North Bay – Parry Sound)
DESCRIPTION:
URL:https://www.nearnorthlabs.ca/event/november-5th-2024-nnl-courier-south-of-north-bay-parry-sound/
LOCATION:Ontario
CATEGORIES:Courier
ORGANIZER;CN="Near North Lab Inc.":MAILTO:service@nnlab.ca
END:VEVENT
BEGIN:VEVENT
DTSTART;TZID=America/Toronto:20241029T083000
DTEND;TZID=America/Toronto:20241029T170000
DTSTAMP:20260425T113233
CREATED:20240911T135206Z
LAST-MODIFIED:20240911T135521Z
UID:13979-1730190600-1730221200@www.nearnorthlabs.ca
SUMMARY:October 29th 2024– NNL Courier (South of North Bay – Parry Sound)
DESCRIPTION:
URL:https://www.nearnorthlabs.ca/event/october-29th-2024-nnl-courier-south-of-north-bay-parry-sound/
LOCATION:Near North Lab Inc.\, 191 Booth Road\, Unit 11\, North Bay\, Ontario\, P1A 4K3\, Canada
CATEGORIES:Courier
ORGANIZER;CN="Near North Lab Inc.":MAILTO:service@nnlab.ca
END:VEVENT
BEGIN:VEVENT
DTSTART;TZID=America/Toronto:20241022T083000
DTEND;TZID=America/Toronto:20241022T170000
DTSTAMP:20260425T113233
CREATED:20240911T134953Z
LAST-MODIFIED:20240911T134953Z
UID:13977-1729585800-1729616400@www.nearnorthlabs.ca
SUMMARY:October 22nd 2024– NNL Courier (South of North Bay – Parry Sound\, Port Carling)
DESCRIPTION:
URL:https://www.nearnorthlabs.ca/event/october-22nd-2024-nnl-courier-south-of-north-bay-parry-sound-port-carling/
LOCATION:Near North Lab Inc.\, 191 Booth Road\, Unit 11\, North Bay\, Ontario\, P1A 4K3\, Canada
CATEGORIES:Courier
ORGANIZER;CN="Near North Lab Inc.":MAILTO:service@nnlab.ca
END:VEVENT
BEGIN:VEVENT
DTSTART;TZID=America/Toronto:20241015T083000
DTEND;TZID=America/Toronto:20241015T170000
DTSTAMP:20260425T113233
CREATED:20240911T134745Z
LAST-MODIFIED:20240911T134745Z
UID:13975-1728981000-1729011600@www.nearnorthlabs.ca
SUMMARY:October 15th 2024– NNL Courier (South of North Bay – Parry Sound)
DESCRIPTION:
URL:https://www.nearnorthlabs.ca/event/october-15th-2024-nnl-courier-south-of-north-bay-parry-sound/
LOCATION:Near North Lab Inc.\, 191 Booth Road\, Unit 11\, North Bay\, Ontario\, P1A 4K3\, Canada
CATEGORIES:Courier
ORGANIZER;CN="Near North Lab Inc.":MAILTO:service@nnlab.ca
END:VEVENT
BEGIN:VEVENT
DTSTART;VALUE=DATE:20241014
DTEND;VALUE=DATE:20241015
DTSTAMP:20260425T113233
CREATED:20240104T170457Z
LAST-MODIFIED:20240911T135607Z
UID:13462-1728864000-1728950399@www.nearnorthlabs.ca
SUMMARY:October 14th 2024 – Lab Closed (Thanksgiving Day)
DESCRIPTION:
URL:https://www.nearnorthlabs.ca/event/october-14th-2024-lab-closed-thanksgiving-day/
LOCATION:Near North Lab Inc.\, 191 Booth Road\, Unit 11\, North Bay\, Ontario\, P1A 4K3\, Canada
CATEGORIES:Holidays
ORGANIZER;CN="Near North Lab Inc.":MAILTO:service@nnlab.ca
END:VEVENT
BEGIN:VEVENT
DTSTART;TZID=America/Toronto:20241008T083000
DTEND;TZID=America/Toronto:20241008T170000
DTSTAMP:20260425T113233
CREATED:20240911T134556Z
LAST-MODIFIED:20240911T134556Z
UID:13973-1728376200-1728406800@www.nearnorthlabs.ca
SUMMARY:October 8th 2024– NNL Courier (South of North Bay – Parry Sound\, Dorset)
DESCRIPTION:
URL:https://www.nearnorthlabs.ca/event/october-8th-2024-nnl-courier-south-of-north-bay-parry-sound-dorset/
LOCATION:Near North Lab Inc.\, 191 Booth Road\, Unit 11\, North Bay\, Ontario\, P1A 4K3\, Canada
CATEGORIES:Courier
ORGANIZER;CN="Near North Lab Inc.":MAILTO:service@nnlab.ca
END:VEVENT
BEGIN:VEVENT
DTSTART;TZID=America/Toronto:20241001T083000
DTEND;TZID=America/Toronto:20241001T170000
DTSTAMP:20260425T113233
CREATED:20240911T134216Z
LAST-MODIFIED:20240911T134216Z
UID:13971-1727771400-1727802000@www.nearnorthlabs.ca
SUMMARY:October 1st 2024– NNL Courier (South of North Bay – Parry Sound)
DESCRIPTION:
URL:https://www.nearnorthlabs.ca/event/october-1st-2024-nnl-courier-south-of-north-bay-parry-sound/
LOCATION:Near North Lab Inc.\, 191 Booth Road\, Unit 11\, North Bay\, Ontario\, P1A 4K3\, Canada
CATEGORIES:Courier
ORGANIZER;CN="Near North Lab Inc.":MAILTO:service@nnlab.ca
END:VEVENT
BEGIN:VEVENT
DTSTART;TZID=America/Toronto:20240924T083000
DTEND;TZID=America/Toronto:20240924T170000
DTSTAMP:20260425T113233
CREATED:20240524T183747Z
LAST-MODIFIED:20240524T183747Z
UID:13766-1727166600-1727197200@www.nearnorthlabs.ca
SUMMARY:September 24th 2024– NNL Courier (South of North Bay – Parry Sound\, Port Carling)
DESCRIPTION:
URL:https://www.nearnorthlabs.ca/event/september-24th-2024-nnl-courier-south-of-north-bay-parry-sound-port-carling/
LOCATION:Near North Lab Inc.\, 191 Booth Road\, Unit 11\, North Bay\, Ontario\, P1A 4K3\, Canada
CATEGORIES:Courier
ORGANIZER;CN="Near North Lab Inc.":MAILTO:service@nnlab.ca
END:VEVENT
BEGIN:VEVENT
DTSTART;TZID=America/Toronto:20240917T083000
DTEND;TZID=America/Toronto:20240917T170000
DTSTAMP:20260425T113233
CREATED:20240524T183638Z
LAST-MODIFIED:20240524T183638Z
UID:13764-1726561800-1726592400@www.nearnorthlabs.ca
SUMMARY:September 17th 2024– NNL Courier (South of North Bay – Parry Sound)
DESCRIPTION:
URL:https://www.nearnorthlabs.ca/event/september-17th-2024-nnl-courier-south-of-north-bay-parry-sound/
LOCATION:Near North Lab Inc.\, 191 Booth Road\, Unit 11\, North Bay\, Ontario\, P1A 4K3\, Canada
CATEGORIES:Courier
ORGANIZER;CN="Near North Lab Inc.":MAILTO:service@nnlab.ca
END:VEVENT
BEGIN:VEVENT
DTSTART;TZID=America/Toronto:20240910T083000
DTEND;TZID=America/Toronto:20240910T170000
DTSTAMP:20260425T113233
CREATED:20240911T141406Z
LAST-MODIFIED:20240911T142548Z
UID:13998-1725957000-1725987600@www.nearnorthlabs.ca
SUMMARY:September 10th 2024– NNL Courier (South of North Bay – Parry Sound)
DESCRIPTION:
URL:https://www.nearnorthlabs.ca/event/december-30th-2024-nnl-courier-south-of-north-bay-parry-sound/
LOCATION:Near North Lab Inc.\, 191 Booth Road\, Unit 11\, North Bay\, Ontario\, P1A 4K3\, Canada
CATEGORIES:Courier
ORGANIZER;CN="Near North Lab Inc.":MAILTO:service@nnlab.ca
END:VEVENT
BEGIN:VEVENT
DTSTART;TZID=America/Toronto:20240910T083000
DTEND;TZID=America/Toronto:20240910T170000
DTSTAMP:20260425T113233
CREATED:20240524T183405Z
LAST-MODIFIED:20240524T183405Z
UID:13762-1725957000-1725987600@www.nearnorthlabs.ca
SUMMARY:September 10th 2024– NNL Courier (South of North Bay – Parry Sound\, Dorset)
DESCRIPTION:
URL:https://www.nearnorthlabs.ca/event/september-10th-2024-nnl-courier-south-of-north-bay-parry-sound-dorset/
LOCATION:Near North Lab Inc.\, 191 Booth Road\, Unit 11\, North Bay\, Ontario\, P1A 4K3\, Canada
CATEGORIES:Courier
ORGANIZER;CN="Near North Lab Inc.":MAILTO:service@nnlab.ca
END:VEVENT
BEGIN:VEVENT
DTSTART;TZID=America/Toronto:20240903T083000
DTEND;TZID=America/Toronto:20240903T170000
DTSTAMP:20260425T113233
CREATED:20240524T182947Z
LAST-MODIFIED:20240524T183246Z
UID:13759-1725352200-1725382800@www.nearnorthlabs.ca
SUMMARY:September 3rd 2024– NNL Courier (South of North Bay – Parry Sound\, Pointe-au-Baril)
DESCRIPTION:
URL:https://www.nearnorthlabs.ca/event/septemeber-3rd-2024-nnl-courier-south-of-north-bay-parry-sound-pointe-au-baril/
LOCATION:Near North Lab Inc.\, 191 Booth Road\, Unit 11\, North Bay\, Ontario\, P1A 4K3\, Canada
CATEGORIES:Courier
ORGANIZER;CN="Near North Lab Inc.":MAILTO:service@nnlab.ca
END:VEVENT
BEGIN:VEVENT
DTSTART;VALUE=DATE:20240902
DTEND;VALUE=DATE:20240903
DTSTAMP:20260425T113233
CREATED:20240104T170356Z
LAST-MODIFIED:20240104T170356Z
UID:13460-1725235200-1725321599@www.nearnorthlabs.ca
SUMMARY:September 2nd 2024 – Lab Closed (Labour Day)
DESCRIPTION:
URL:https://www.nearnorthlabs.ca/event/september-2nd-2024-lab-closed-labour-day/
LOCATION:Near North Lab Inc.\, 191 Booth Road\, Unit 11\, North Bay\, Ontario\, P1A 4K3\, Canada
CATEGORIES:Holidays
ORGANIZER;CN="Near North Lab Inc.":MAILTO:service@nnlab.ca
END:VEVENT
END:VCALENDAR