BEGIN:VCALENDAR
VERSION:2.0
PRODID:-//Near North Lab - ECPv6.15.20//NONSGML v1.0//EN
CALSCALE:GREGORIAN
METHOD:PUBLISH
X-ORIGINAL-URL:https://www.nearnorthlabs.ca
X-WR-CALDESC:Events for Near North Lab
REFRESH-INTERVAL;VALUE=DURATION:PT1H
X-Robots-Tag:noindex
X-PUBLISHED-TTL:PT1H
BEGIN:VTIMEZONE
TZID:America/Toronto
BEGIN:DAYLIGHT
TZOFFSETFROM:-0500
TZOFFSETTO:-0400
TZNAME:EDT
DTSTART:20250309T070000
END:DAYLIGHT
BEGIN:STANDARD
TZOFFSETFROM:-0400
TZOFFSETTO:-0500
TZNAME:EST
DTSTART:20251102T060000
END:STANDARD
BEGIN:DAYLIGHT
TZOFFSETFROM:-0500
TZOFFSETTO:-0400
TZNAME:EDT
DTSTART:20260308T070000
END:DAYLIGHT
BEGIN:STANDARD
TZOFFSETFROM:-0400
TZOFFSETTO:-0500
TZNAME:EST
DTSTART:20261101T060000
END:STANDARD
BEGIN:DAYLIGHT
TZOFFSETFROM:-0500
TZOFFSETTO:-0400
TZNAME:EDT
DTSTART:20270314T070000
END:DAYLIGHT
BEGIN:STANDARD
TZOFFSETFROM:-0400
TZOFFSETTO:-0500
TZNAME:EST
DTSTART:20271107T060000
END:STANDARD
END:VTIMEZONE
BEGIN:VEVENT
DTSTART;TZID=America/Toronto:20260414T083000
DTEND;TZID=America/Toronto:20260414T170000
DTSTAMP:20260423T173038
CREATED:20260309T171550Z
LAST-MODIFIED:20260309T171550Z
UID:18021-1776155400-1776186000@www.nearnorthlabs.ca
SUMMARY:April 14th 2026– NNL Courier (South of North Bay - Parry Sound\, Dorset)
DESCRIPTION:
URL:https://www.nearnorthlabs.ca/event/april-14th-2026-nnl-courier-south-of-north-bay-parry-sound-dorset/
LOCATION:Near North Lab Inc.\, 191 Booth Road\, Unit 11\, North Bay\, Ontario\, P1A 4K3\, Canada
CATEGORIES:Courier
ORGANIZER;CN="Near North Lab Inc.":MAILTO:service@nnlab.ca
END:VEVENT
BEGIN:VEVENT
DTSTART;TZID=America/Toronto:20260421T083000
DTEND;TZID=America/Toronto:20260421T170000
DTSTAMP:20260423T173038
CREATED:20260309T171806Z
LAST-MODIFIED:20260309T171806Z
UID:18023-1776760200-1776790800@www.nearnorthlabs.ca
SUMMARY:April 21st 2026– NNL Courier (South of North Bay - Parry Sound)
DESCRIPTION:
URL:https://www.nearnorthlabs.ca/event/april-21st-2026-nnl-courier-south-of-north-bay-parry-sound/
LOCATION:Near North Lab Inc.\, 191 Booth Road\, Unit 11\, North Bay\, Ontario\, P1A 4K3\, Canada
CATEGORIES:Courier
ORGANIZER;CN="Near North Lab Inc.":MAILTO:service@nnlab.ca
END:VEVENT
BEGIN:VEVENT
DTSTART;TZID=America/Toronto:20260428T083000
DTEND;TZID=America/Toronto:20260428T170000
DTSTAMP:20260423T173038
CREATED:20260309T172004Z
LAST-MODIFIED:20260309T172004Z
UID:18025-1777365000-1777395600@www.nearnorthlabs.ca
SUMMARY:April 28th 2026– NNL Courier (South of North Bay - Parry Sound\, Port Carling)
DESCRIPTION:
URL:https://www.nearnorthlabs.ca/event/april-28th-2026-nnl-courier-south-of-north-bay-parry-sound-port-carling/
LOCATION:Near North Lab Inc.\, 191 Booth Road\, Unit 11\, North Bay\, Ontario\, P1A 4K3\, Canada
CATEGORIES:Courier
ORGANIZER;CN="Near North Lab Inc.":MAILTO:service@nnlab.ca
END:VEVENT
BEGIN:VEVENT
DTSTART;TZID=America/Toronto:20260505T083000
DTEND;TZID=America/Toronto:20260505T170000
DTSTAMP:20260423T173038
CREATED:20260309T172518Z
LAST-MODIFIED:20260309T172518Z
UID:18027-1777969800-1778000400@www.nearnorthlabs.ca
SUMMARY:May 5th\,  2026– NNL Courier (South of North Bay - Parry Sound\, Pointe-au-Baril)
DESCRIPTION:
URL:https://www.nearnorthlabs.ca/event/may-5th-2026-nnl-courier-south-of-north-bay-parry-sound-pointe-au-baril/
LOCATION:Near North Lab Inc.\, 191 Booth Road\, Unit 11\, North Bay\, Ontario\, P1A 4K3\, Canada
CATEGORIES:Courier
ORGANIZER;CN="Near North Lab Inc.":MAILTO:service@nnlab.ca
END:VEVENT
BEGIN:VEVENT
DTSTART;TZID=America/Toronto:20260512T083000
DTEND;TZID=America/Toronto:20260512T170000
DTSTAMP:20260423T173038
CREATED:20260309T172924Z
LAST-MODIFIED:20260309T172924Z
UID:18029-1778574600-1778605200@www.nearnorthlabs.ca
SUMMARY:May 12th\,  2026– NNL Courier (South of North Bay - Parry Sound\, Dorset)
DESCRIPTION:
URL:https://www.nearnorthlabs.ca/event/may-12th-2026-nnl-courier-south-of-north-bay-parry-sound-dorset/
LOCATION:Near North Lab Inc.\, 191 Booth Road\, Unit 11\, North Bay\, Ontario\, P1A 4K3\, Canada
CATEGORIES:Courier
ORGANIZER;CN="Near North Lab Inc.":MAILTO:service@nnlab.ca
END:VEVENT
BEGIN:VEVENT
DTSTART;TZID=America/Toronto:20260519T083000
DTEND;TZID=America/Toronto:20260519T170000
DTSTAMP:20260423T173038
CREATED:20260309T173351Z
LAST-MODIFIED:20260309T173351Z
UID:18031-1779179400-1779210000@www.nearnorthlabs.ca
SUMMARY:May 19th\, 2026– NNL Courier (South of North Bay - Parry Sound)
DESCRIPTION:
URL:https://www.nearnorthlabs.ca/event/may-19th-2026-nnl-courier-south-of-north-bay-parry-sound/
LOCATION:Near North Lab Inc.\, 191 Booth Road\, Unit 11\, North Bay\, Ontario\, P1A 4K3\, Canada
CATEGORIES:Courier
ORGANIZER;CN="Near North Lab Inc.":MAILTO:service@nnlab.ca
END:VEVENT
BEGIN:VEVENT
DTSTART;TZID=America/Toronto:20260526T083000
DTEND;TZID=America/Toronto:20260526T170000
DTSTAMP:20260423T173038
CREATED:20260309T173545Z
LAST-MODIFIED:20260309T173545Z
UID:18033-1779784200-1779814800@www.nearnorthlabs.ca
SUMMARY:May 26th\, 2026– NNL Courier (South of North Bay - Parry Sound\, Port Carling)
DESCRIPTION:
URL:https://www.nearnorthlabs.ca/event/may-26th-2026-nnl-courier-south-of-north-bay-parry-sound-port-carling/
LOCATION:Near North Lab Inc.\, 191 Booth Road\, Unit 11\, North Bay\, Ontario\, P1A 4K3\, Canada
CATEGORIES:Courier
ORGANIZER;CN="Near North Lab Inc.":MAILTO:service@nnlab.ca
END:VEVENT
BEGIN:VEVENT
DTSTART;TZID=America/Toronto:20260602T080000
DTEND;TZID=America/Toronto:20260602T170000
DTSTAMP:20260423T173038
CREATED:20260309T173735Z
LAST-MODIFIED:20260309T173735Z
UID:18035-1780387200-1780419600@www.nearnorthlabs.ca
SUMMARY:June 2nd\, 2026– NNL Courier (South of North Bay - Parry Sound\, Pointe-au-Baril)
DESCRIPTION:
URL:https://www.nearnorthlabs.ca/event/june-2nd-2026-nnl-courier-south-of-north-bay-parry-sound-pointe-au-baril/
LOCATION:Near North Lab Inc.\, 191 Booth Road\, Unit 11\, North Bay\, Ontario\, P1A 4K3\, Canada
CATEGORIES:Courier
ORGANIZER;CN="Near North Lab Inc.":MAILTO:service@nnlab.ca
END:VEVENT
BEGIN:VEVENT
DTSTART;TZID=America/Toronto:20260609T083000
DTEND;TZID=America/Toronto:20260609T170000
DTSTAMP:20260423T173038
CREATED:20260309T173955Z
LAST-MODIFIED:20260309T173955Z
UID:18037-1780993800-1781024400@www.nearnorthlabs.ca
SUMMARY:June 9th\, 2026– NNL Courier (South of North Bay - Parry Sound\, Dorset)
DESCRIPTION:
URL:https://www.nearnorthlabs.ca/event/june-9th-2026-nnl-courier-south-of-north-bay-parry-sound-dorset/
LOCATION:Near North Lab Inc.\, 191 Booth Road\, Unit 11\, North Bay\, Ontario\, P1A 4K3\, Canada
CATEGORIES:Courier
ORGANIZER;CN="Near North Lab Inc.":MAILTO:service@nnlab.ca
END:VEVENT
BEGIN:VEVENT
DTSTART;TZID=America/Toronto:20260616T083000
DTEND;TZID=America/Toronto:20260616T170000
DTSTAMP:20260423T173038
CREATED:20260309T191514Z
LAST-MODIFIED:20260309T191514Z
UID:18039-1781598600-1781629200@www.nearnorthlabs.ca
SUMMARY:June 16th\, 2026– NNL Courier (South of North Bay - Parry Sound)
DESCRIPTION:
URL:https://www.nearnorthlabs.ca/event/june-16th-2026-nnl-courier-south-of-north-bay-parry-sound/
LOCATION:Near North Lab Inc.\, 191 Booth Road\, Unit 11\, North Bay\, Ontario\, P1A 4K3\, Canada
CATEGORIES:Courier
ORGANIZER;CN="Near North Lab Inc.":MAILTO:service@nnlab.ca
END:VEVENT
BEGIN:VEVENT
DTSTART;TZID=America/Toronto:20260623T083000
DTEND;TZID=America/Toronto:20260623T170000
DTSTAMP:20260423T173038
CREATED:20260309T192229Z
LAST-MODIFIED:20260309T192229Z
UID:18042-1782203400-1782234000@www.nearnorthlabs.ca
SUMMARY:June 23rd\, 2026– NNL Courier (South of North Bay - Parry Sound\, Port Carling)
DESCRIPTION:
URL:https://www.nearnorthlabs.ca/event/june-23rd-2026-nnl-courier-south-of-north-bay-parry-sound-port-carling/
LOCATION:Near North Lab Inc.\, 191 Booth Road\, Unit 11\, North Bay\, Ontario\, P1A 4K3\, Canada
CATEGORIES:Courier
ORGANIZER;CN="Near North Lab Inc.":MAILTO:service@nnlab.ca
END:VEVENT
BEGIN:VEVENT
DTSTART;TZID=America/Toronto:20260630T083000
DTEND;TZID=America/Toronto:20260630T170000
DTSTAMP:20260423T173038
CREATED:20260309T192414Z
LAST-MODIFIED:20260309T192414Z
UID:18044-1782808200-1782838800@www.nearnorthlabs.ca
SUMMARY:June 30th\, 2026– NNL Courier (South of North Bay - Parry Sound)
DESCRIPTION:
URL:https://www.nearnorthlabs.ca/event/june-30th-2026-nnl-courier-south-of-north-bay-parry-sound/
LOCATION:Near North Lab Inc.\, 191 Booth Road\, Unit 11\, North Bay\, Ontario\, P1A 4K3\, Canada
CATEGORIES:Courier
ORGANIZER;CN="Near North Lab Inc.":MAILTO:service@nnlab.ca
END:VEVENT
END:VCALENDAR